BEGIN:VCALENDAR
VERSION:2.0
PRODID:-//ChamberMaster//Event Calendar 2.0//EN
METHOD:PUBLISH
X-PUBLISHED-TTL:P3D
REFRESH-INTERVAL:P3D
CALSCALE:GREGORIAN
BEGIN:VEVENT
DTSTART:20180320T143000Z
DTEND:20180320T154500Z
X-MICROSOFT-CDO-ALLDAYEVENT:FALSE
SUMMARY:Sunrise Santee
DESCRIPTION:Enjoy networking and a presentation over breakfast. \n\n\n\nSpeaker: Kristen Dare & Liz Shank\, Santee Chamber of Commerce\n\nTopic: Chamber 101: Maximizing Your Membership
X-ALT-DESC;FMTTYPE=text/html:Enjoy networking and a presentation over breakfast.&nbsp\;<br />\n<br />\n<strong>Speaker:</strong>&nbsp\;Kristen Dare &amp\; Liz Shank\, Santee Chamber of Commerce<br />\n<strong>Topic:</strong>&nbsp\;Chamber 101: Maximizing Your Membership&nbsp\;
LOCATION:Omelette Factory 8860 Magnolia Avenue Santee\, CA 92071
UID:e.2538.2889
SEQUENCE:3
DTSTAMP:20260424T075244Z
URL:https://santeechamber.com/events/details/morning-mix-03-20-2018-2889
END:VEVENT

END:VCALENDAR
