BEGIN:VCALENDAR
VERSION:2.0
PRODID:-//ChamberMaster//Event Calendar 2.0//EN
METHOD:PUBLISH
X-PUBLISHED-TTL:P3D
REFRESH-INTERVAL:P3D
CALSCALE:GREGORIAN
BEGIN:VEVENT
DTSTART:20190108T160000Z
DTEND:20190108T173000Z
X-MICROSOFT-CDO-ALLDAYEVENT:FALSE
SUMMARY:Morning Buzz
DESCRIPTION:Come grab a coffee\, meet the Chamber Staff and network with some of the many business owners in Santee
X-ALT-DESC;FMTTYPE=text/html:Come grab a coffee\, meet the Chamber Staff and network with some of the many business owners in Santee
LOCATION:The Coffee Corner 235 Town Center Pkwy Suite A
UID:e.2538.3246
SEQUENCE:3
DTSTAMP:20260423T143259Z
URL:https://santeechamber.com/events/details/morning-buzz-3246
END:VEVENT

END:VCALENDAR
