BEGIN:VCALENDAR
VERSION:2.0
PRODID:-//ChamberMaster//Event Calendar 2.0//EN
METHOD:PUBLISH
X-PUBLISHED-TTL:P3D
REFRESH-INTERVAL:P3D
CALSCALE:GREGORIAN
BEGIN:VEVENT
DTSTART:20160306T020000Z
DTEND:20160306T040000Z
X-MICROSOFT-CDO-ALLDAYEVENT:FALSE
SUMMARY:Miss Santee & Miss La Mesa Pageant
DESCRIPTION:
X-ALT-DESC;FMTTYPE=text/html:
LOCATION:Sonrise Community Church 8805 N Magnolia Ave\, Santee\, California 92071
UID:e.2538.1547
SEQUENCE:3
DTSTAMP:20260425T214539Z
URL:https://santeechamber.com/events/details/miss-santee-miss-la-mesa-pageant-03-05-2016-1547
END:VEVENT

END:VCALENDAR
