BEGIN:VCALENDAR
VERSION:2.0
PRODID:-//ChamberMaster//Event Calendar 2.0//EN
METHOD:PUBLISH
X-PUBLISHED-TTL:P3D
REFRESH-INTERVAL:P3D
CALSCALE:GREGORIAN
BEGIN:VEVENT
DTSTART:20190412T003000Z
DTEND:20190412T023000Z
X-MICROSOFT-CDO-ALLDAYEVENT:FALSE
SUMMARY:Mega Mixer
DESCRIPTION:Join us for a Mega Mixer with Alpine Mountain Empire Chamber of Commerce\, Lakeside Chamber of Commerce\, La Mesa Chamber of Commerce\, and the Santee Chamber of Commerce. Enjoy beer\, wine\, hors d'oeuvres\, a member appreciation business card raffle\, while networking with local businesses. Be sure to bring your business cards for the raffle!\n\n\n\n \n\n\n\nThere is no entrance charge for this exclusive Chamber member event.
X-ALT-DESC;FMTTYPE=text/html:<div data-block="true" data-editor="f01jg" data-offset-key="5r9a2-0-0" style="color: rgb(29\, 33\, 41)\; font-family: Helvetica\, Arial\, sans-serif\; font-size: 12px\; white-space: pre-wrap\;">\n<div class="_1mf _1mj" data-offset-key="5r9a2-0-0" style="font-family: inherit\; position: relative\; direction: ltr\;"><span data-offset-key="5r9a2-0-0" style="font-family: inherit\;">Join us for a Mega Mixer with </span><span class="_247o" data-offset-key="5r9a2-1-0" spellcheck="false" style="font-family: inherit\; background-color: rgb(220\, 230\, 248)\;"><span data-offset-key="5r9a2-1-0" style="font-family: inherit\;"><span data-text="true" style="font-family: inherit\;">Alpine Mountain Empire Chamber of Commerce</span></span></span><span data-offset-key="5r9a2-2-0" style="font-family: inherit\;">\, </span><span class="_247o" data-offset-key="5r9a2-3-0" spellcheck="false" style="font-family: inherit\; background-color: rgb(220\, 230\, 248)\;"><span data-offset-key="5r9a2-3-0" style="font-family: inherit\;"><span data-text="true" style="font-family: inherit\;">Lakeside Chamber of Commerce</span></span></span><span data-offset-key="5r9a2-4-0" style="font-family: inherit\;">\, </span><span class="_247o" data-offset-key="5r9a2-5-0" spellcheck="false" style="font-family: inherit\; background-color: rgb(220\, 230\, 248)\;"><span data-offset-key="5r9a2-5-0" style="font-family: inherit\;"><span data-text="true" style="font-family: inherit\;">La Mesa Chamber of Commerce</span></span></span><span data-offset-key="5r9a2-6-0" style="font-family: inherit\;">\, </span><span data-offset-key="5r9a2-8-0" style="font-family: inherit\;">and the </span><span class="_247o" data-offset-key="5r9a2-9-0" spellcheck="false" style="font-family: inherit\; background-color: rgb(220\, 230\, 248)\;"><span data-offset-key="5r9a2-9-0" style="font-family: inherit\;"><span data-text="true" style="font-family: inherit\;">Santee Chamber of Commerce</span></span></span><span data-offset-key="5r9a2-10-0" style="font-family: inherit\;">.&nbsp\;Enjoy</span><span data-offset-key="5r9a2-12-0" style="font-family: inherit\;"> beer\, wine\, hors d&#39\;oeuvres\, a member appreciation business card raffle\, while networking with local businesses. Be sure to bring your business cards for the raffle!</span></div>\n</div>\n\n<div data-block="true" data-editor="f01jg" data-offset-key="621cn-0-0" style="color: rgb(29\, 33\, 41)\; font-family: Helvetica\, Arial\, sans-serif\; font-size: 12px\; white-space: pre-wrap\;">\n<div class="_1mf _1mj" data-offset-key="621cn-0-0" style="font-family: inherit\; position: relative\; direction: ltr\;">&nbsp\;</div>\n</div>\n\n<div data-block="true" data-editor="f01jg" data-offset-key="cjq6q-0-0" style="color: rgb(29\, 33\, 41)\; font-family: Helvetica\, Arial\, sans-serif\; font-size: 12px\; white-space: pre-wrap\;">\n<div class="_1mf _1mj" data-offset-key="cjq6q-0-0" style="font-family: inherit\; position: relative\; direction: ltr\;"><span data-offset-key="cjq6q-0-0" style="font-family: inherit\;">There is no entrance charge for this exclusive Chamber member event. </span></div>\n</div>\n
LOCATION:Lantern Crest Senior Living 800 Lantern Crest Way Santee\, CA 92071
UID:e.2538.3276
SEQUENCE:3
DTSTAMP:20260423T095052Z
URL:https://santeechamber.com/events/details/mega-mixer-3276
END:VEVENT

END:VCALENDAR
