BEGIN:VCALENDAR
VERSION:2.0
PRODID:-//ChamberMaster//Event Calendar 2.0//EN
METHOD:PUBLISH
X-PUBLISHED-TTL:P3D
REFRESH-INTERVAL:P3D
CALSCALE:GREGORIAN
BEGIN:VEVENT
DTSTART:20161018T190000Z
DTEND:20161018T200000Z
X-MICROSOFT-CDO-ALLDAYEVENT:FALSE
SUMMARY:Lisa's Beauty Loft - Ribbon Cutting
DESCRIPTION:Celebrate the Grand Opening of Lisa's Beauty Loft with a ribbon cutting.
X-ALT-DESC;FMTTYPE=text/html:Celebrate the Grand Opening of Lisa&#39\;s Beauty Loft with a ribbon cutting.&nbsp\;&nbsp\;&nbsp\;&nbsp\;
LOCATION:10769 Woodside Ave\, Suite 202 Santee\, California 92071
UID:e.2538.2862
SEQUENCE:3
DTSTAMP:20260425T105727Z
URL:https://santeechamber.com/events/details/lisa-s-beauty-loft-ribbon-cutting-2862
END:VEVENT

END:VCALENDAR
