BEGIN:VCALENDAR
VERSION:2.0
PRODID:-//ChamberMaster//Event Calendar 2.0//EN
METHOD:PUBLISH
X-PUBLISHED-TTL:P3D
REFRESH-INTERVAL:P3D
CALSCALE:GREGORIAN
BEGIN:VEVENT
DTSTART:20160323T183000Z
DTEND:20160323T193000Z
X-MICROSOFT-CDO-ALLDAYEVENT:FALSE
SUMMARY:Leadership Council Lunch
DESCRIPTION:This group acts as ambassadors for the Chamber and a point of contact for new members. All members are welcome!
X-ALT-DESC;FMTTYPE=text/html:This group acts as ambassadors for the Chamber and a point of contact for new members. All members are welcome!
LOCATION:Event location varies by month. March 2016: El Pollo Loco--9714 Mission Gorge Rd.\, Santee\, CA 92071
UID:e.2538.1415
SEQUENCE:3
DTSTAMP:20260425T213245Z
URL:https://santeechamber.com/events/details/leadership-council-lunch-03-23-2016-1415
END:VEVENT

END:VCALENDAR
