BEGIN:VCALENDAR
VERSION:2.0
PRODID:-//ChamberMaster//Event Calendar 2.0//EN
METHOD:PUBLISH
X-PUBLISHED-TTL:P3D
REFRESH-INTERVAL:P3D
CALSCALE:GREGORIAN
BEGIN:VEVENT
DTSTART:20170804T000000Z
DTEND:20170804T023000Z
X-MICROSOFT-CDO-ALLDAYEVENT:FALSE
SUMMARY:Lantern Crest Dusty Boots Joint Mixer
DESCRIPTION:Bring out your boots for the Dusty Boots & Member Appreciation Joint Mixer with Alpine Mountain Empire Chamber of Commerce\, Lakeside Chamber of Commerce\, La Mesa Chamber of Commerce\, East County EDC\, and Santee Chamber of Commerce. This exclusive Chamber member event will get allow guests to get a preview of Lantern Crest Senior Living's premier villas while enjoying beer\, wine\, BBQ-themed hors d'oeuvres\, member appreciation business card raffle\, and networking with local businesses. Be sure to bring your business cards for the raffle!\n\n\n\n \n\n\n\nThere is no entrance charge for this exclusive Chamber member event.
X-ALT-DESC;FMTTYPE=text/html:<div data-block="true" data-editor="f01jg" data-offset-key="5r9a2-0-0" style="font-family: Helvetica\, Arial\, sans-serif\; color: rgb(29\, 33\, 41)\; font-size: 12px\; white-space: pre-wrap\;">\n<div class="_1mf _1mj" data-offset-key="5r9a2-0-0" style="position: relative\; direction: ltr\; font-family: inherit\;"><span data-offset-key="5r9a2-0-0" style="font-family: inherit\;">Bring out your boots for the Dusty Boots &amp\; Member Appreciation Joint Mixer with </span><span class="_247o" data-offset-key="5r9a2-1-0" spellcheck="false" style="background-color: rgb(220\, 230\, 248)\; font-family: inherit\;"><span data-offset-key="5r9a2-1-0" style="font-family: inherit\;"><span data-text="true" style="font-family: inherit\;">Alpine Mountain Empire Chamber of Commerce</span></span></span><span data-offset-key="5r9a2-2-0" style="font-family: inherit\;">\, </span><span class="_247o" data-offset-key="5r9a2-3-0" spellcheck="false" style="background-color: rgb(220\, 230\, 248)\; font-family: inherit\;"><span data-offset-key="5r9a2-3-0" style="font-family: inherit\;"><span data-text="true" style="font-family: inherit\;">Lakeside Chamber of Commerce</span></span></span><span data-offset-key="5r9a2-4-0" style="font-family: inherit\;">\, </span><span class="_247o" data-offset-key="5r9a2-5-0" spellcheck="false" style="background-color: rgb(220\, 230\, 248)\; font-family: inherit\;"><span data-offset-key="5r9a2-5-0" style="font-family: inherit\;"><span data-text="true" style="font-family: inherit\;">La Mesa Chamber of Commerce</span></span></span><span data-offset-key="5r9a2-6-0" style="font-family: inherit\;">\, </span><span class="_247o" data-offset-key="5r9a2-7-0" spellcheck="false" style="background-color: rgb(220\, 230\, 248)\; font-family: inherit\;"><span data-offset-key="5r9a2-7-0" style="font-family: inherit\;"><span data-text="true" style="font-family: inherit\;">East County EDC</span></span></span><span data-offset-key="5r9a2-8-0" style="font-family: inherit\;">\, and </span><span class="_247o" data-offset-key="5r9a2-9-0" spellcheck="false" style="background-color: rgb(220\, 230\, 248)\; font-family: inherit\;"><span data-offset-key="5r9a2-9-0" style="font-family: inherit\;"><span data-text="true" style="font-family: inherit\;">Santee Chamber of Commerce</span></span></span><span data-offset-key="5r9a2-10-0" style="font-family: inherit\;">. This exclusive Chamber member event will get allow guests to get a preview of </span><span class="_247o" data-offset-key="5r9a2-11-0" spellcheck="false" style="background-color: rgb(220\, 230\, 248)\; font-family: inherit\;"><span data-offset-key="5r9a2-11-0" style="font-family: inherit\;"><span data-text="true" style="font-family: inherit\;">Lantern Crest Senior Living</span></span></span><span data-offset-key="5r9a2-12-0" style="font-family: inherit\;">&#39\;s premier villas while enjoying beer\, wine\, BBQ-themed hors d&#39\;oeuvres\, member appreciation business card raffle\, and networking with local businesses. Be sure to bring your business cards for the raffle!</span></div>\n</div>\n\n<div data-block="true" data-editor="f01jg" data-offset-key="621cn-0-0" style="font-family: Helvetica\, Arial\, sans-serif\; color: rgb(29\, 33\, 41)\; font-size: 12px\; white-space: pre-wrap\;">\n<div class="_1mf _1mj" data-offset-key="621cn-0-0" style="position: relative\; direction: ltr\; font-family: inherit\;">&nbsp\;</div>\n</div>\n\n<div data-block="true" data-editor="f01jg" data-offset-key="cjq6q-0-0" style="font-family: Helvetica\, Arial\, sans-serif\; color: rgb(29\, 33\, 41)\; font-size: 12px\; white-space: pre-wrap\;">\n<div class="_1mf _1mj" data-offset-key="cjq6q-0-0" style="position: relative\; direction: ltr\; font-family: inherit\;"><span data-offset-key="cjq6q-0-0" style="font-family: inherit\;">There is no entrance charge for this exclusive Chamber member event. </span></div>\n</div>\n
LOCATION:Lantern Crest Senior Living 800 Lantern Crest Way\, Santee\, CA 92071
UID:e.2538.3017
SEQUENCE:3
DTSTAMP:20260424T191153Z
URL:https://santeechamber.com/events/details/lantern-crest-dusty-boots-joint-mixer-3017
END:VEVENT

END:VCALENDAR
