BEGIN:VCALENDAR
VERSION:2.0
PRODID:-//ChamberMaster//Event Calendar 2.0//EN
METHOD:PUBLISH
X-PUBLISHED-TTL:P3D
REFRESH-INTERVAL:P3D
CALSCALE:GREGORIAN
BEGIN:VEVENT
DTSTART:20161028T000000Z
DTEND:20161028T020000Z
X-MICROSOFT-CDO-ALLDAYEVENT:FALSE
SUMMARY:Keller Williams Grand Opening
DESCRIPTION:Celebrate the Grand Opening of Keller Williams with a ribbon cutting and networking!
X-ALT-DESC;FMTTYPE=text/html:Celebrate the Grand Opening of Keller Williams with a ribbon cutting and networking!
LOCATION:235 Town Center Parkway Suite R Santee\, CA 92071
UID:e.2538.2860
SEQUENCE:3
DTSTAMP:20260425T104726Z
URL:https://santeechamber.com/events/details/keller-williams-grand-opening-2860
END:VEVENT

END:VCALENDAR
