BEGIN:VCALENDAR
VERSION:2.0
PRODID:-//ChamberMaster//Event Calendar 2.0//EN
METHOD:PUBLISH
X-PUBLISHED-TTL:P3D
REFRESH-INTERVAL:P3D
CALSCALE:GREGORIAN
BEGIN:VEVENT
DTSTART:20160521T150000Z
DTEND:20160521T220000Z
X-MICROSOFT-CDO-ALLDAYEVENT:FALSE
SUMMARY:KaBoom Playground Project
DESCRIPTION:Help us build a playground in Santee with KaBoom! Breakfast\, lunch\, a build day t-shirt\, and water will be provided. Gloves and other safety materials will be provided for the projects that need them. \n\n\n\nThe playground build wll happen rain or shine. Please come dressed for the weather in clothes you don't mind getting dirty or a bit of paint/stain on. Closed-toe shoes are required.
X-ALT-DESC;FMTTYPE=text/html:Help us build a playground in Santee with KaBoom! Breakfast\, lunch\, a build day t-shirt\, and water will be provided. Gloves and other safety materials will be provided for the projects that need them.&nbsp\;<br />\n<br />\nThe playground build wll happen rain or shine. Please come dressed for the weather in clothes you don&#39\;t mind getting dirty or a bit of paint/stain on. Closed-toe shoes are required.&nbsp\;
LOCATION:Town Center Community Park West 9409 Cuyamaca St. Santee\, CA 92071
UID:e.2538.2825
SEQUENCE:3
DTSTAMP:20260425T185010Z
URL:https://santeechamber.com/events/details/kaboom-playground-project-05-21-2016-2825
END:VEVENT

END:VCALENDAR
