BEGIN:VCALENDAR
VERSION:2.0
PRODID:-//ChamberMaster//Event Calendar 2.0//EN
METHOD:PUBLISH
X-PUBLISHED-TTL:P3D
REFRESH-INTERVAL:P3D
CALSCALE:GREGORIAN
BEGIN:VEVENT
DTSTART:20190718T003000Z
DTEND:20190718T023000Z
X-MICROSOFT-CDO-ALLDAYEVENT:FALSE
SUMMARY:July Business After 5 Mixer
DESCRIPTION:Join us for the July Business After 5 Mixer at Lloyd's Collision & Paint Center in Santee. They never disappoint on having an evening filled with food\, music\, entertainment and great classic cars!
X-ALT-DESC;FMTTYPE=text/html:Join us for the&nbsp\;July Business After 5 Mixer at Lloyd&#39\;s Collision &amp\; Paint Center in Santee.&nbsp\;They never disappoint on having an evening filled with&nbsp\;food\, music\, entertainment and great classic cars!
LOCATION:Lloyd's Collision & Paint Center 10410 Mission Gorge Rd. Santee\, CA 92071
UID:e.2538.3277
SEQUENCE:3
DTSTAMP:20260423T054350Z
URL:https://santeechamber.com/events/details/july-business-after-5-mixer-3277
END:VEVENT

END:VCALENDAR
