BEGIN:VCALENDAR
VERSION:2.0
PRODID:-//ChamberMaster//Event Calendar 2.0//EN
METHOD:PUBLISH
X-PUBLISHED-TTL:P3D
REFRESH-INTERVAL:P3D
CALSCALE:GREGORIAN
BEGIN:VEVENT
DTSTART:20161026T170000Z
DTEND:20161026T180000Z
X-MICROSOFT-CDO-ALLDAYEVENT:FALSE
SUMMARY:Joybaked Artisan Bakery Ribbon Cutting
DESCRIPTION:Come out to celebrate the Grand Opening of Joybaked Artisan Bakery's commercial kitchen! There will be a ribbon cutting\, coffee\, and delicious baked goods.
X-ALT-DESC;FMTTYPE=text/html:Come out to celebrate the Grand Opening of Joybaked Artisan Bakery&#39\;s commercial kitchen! There will be a ribbon cutting\, coffee\, and delicious baked goods.&nbsp\;
LOCATION:1444 Pioneer Way #11 El Cajon\, CA 92020
UID:e.2538.2859
SEQUENCE:3
DTSTAMP:20260425T105638Z
URL:https://santeechamber.com/events/details/joybaked-artisan-bakery-ribbon-cutting-2859
END:VEVENT

END:VCALENDAR
