BEGIN:VCALENDAR
VERSION:2.0
PRODID:-//ChamberMaster//Event Calendar 2.0//EN
METHOD:PUBLISH
X-PUBLISHED-TTL:P3D
REFRESH-INTERVAL:P3D
CALSCALE:GREGORIAN
BEGIN:VEVENT
DTSTART:20250619T000000Z
DTEND:20250619T020000Z
X-MICROSOFT-CDO-ALLDAYEVENT:FALSE
SUMMARY:Joint Chamber Mixer - June 2025
DESCRIPTION:Join the Santee Chamber of Commerce and the East County Chamber of Commerce for a joint mixer! Make new connections with other local business representatives.\n\n\n\nHosted by Sportsplex USA Santee. Event is open to current members and future members! Make sure to bring your business cards.
X-ALT-DESC;FMTTYPE=text/html:Join the Santee Chamber of Commerce and the East County Chamber of Commerce for a joint mixer! Make new connections with other local business representatives.<br />\n<br />\nHosted by Sportsplex USA Santee. Event is open to current members and future members! Make sure to bring your business cards.
LOCATION:Sportsplex USA Santee 9951 Riverwalk Dr. Santee\, CA 92071
UID:e.2538.5534
SEQUENCE:3
DTSTAMP:20260425T234847Z
URL:https://santeechamber.com/events/details/joint-chamber-mixer-june-2025-5534
END:VEVENT

END:VCALENDAR
