BEGIN:VCALENDAR
VERSION:2.0
PRODID:-//ChamberMaster//Event Calendar 2.0//EN
METHOD:PUBLISH
X-PUBLISHED-TTL:P3D
REFRESH-INTERVAL:P3D
CALSCALE:GREGORIAN
BEGIN:VEVENT
DTSTART:20190115T153000Z
DTEND:20190115T170000Z
X-MICROSOFT-CDO-ALLDAYEVENT:FALSE
SUMMARY:January Sunrise Santee
DESCRIPTION:Join us on January 15th at 7:30 AM for the 1st Sunrise Santee of 2019! This Sunrise Santee will be hosted at The Omelette Factory Santee. Our guest speaker will be Erik Swanson who is a keynote speaker\, best-selling author and a success coach. He will be teaching the secrets behind business building and habit training. Start your new year off right and make some new connections to grow your business and have a prosperous New Year!
X-ALT-DESC;FMTTYPE=text/html:<span style="color:#000000\;"><span style="font-family:arial\,sans-serif\;"><span style="font-size:10.5pt\;">Join us on January 15th at 7:30 AM for the 1st Sunrise Santee of 2019! This Sunrise Santee will be hosted at The Omelette Factory Santee. Our guest speaker will be Erik Swanson who is a keynote speaker\, best-selling author and a success coach. He will be teaching the secrets behind business building and habit training. Start your new year off right and make some new connections to grow your business and have a prosperous New Year!&nbsp\;</span></span></span>
LOCATION:Omelette Factory 8860 Magnolia Ave. Santee\, CA 92071
UID:e.2538.3247
SEQUENCE:3
DTSTAMP:20260423T143523Z
URL:https://santeechamber.com/events/details/january-sunrise-santee-3247
END:VEVENT

END:VCALENDAR
