BEGIN:VCALENDAR
VERSION:2.0
PRODID:-//ChamberMaster//Event Calendar 2.0//EN
METHOD:PUBLISH
X-PUBLISHED-TTL:P3D
REFRESH-INTERVAL:P3D
CALSCALE:GREGORIAN
BEGIN:VEVENT
DTSTART:20190111T013000Z
DTEND:20190111T033000Z
X-MICROSOFT-CDO-ALLDAYEVENT:FALSE
SUMMARY:January Business After 5 Mixer
DESCRIPTION:Join us for the 1st Business After 5 Mixer. Start your new year off right and make some new connections to grow your business and have a prosperous New Year!
X-ALT-DESC;FMTTYPE=text/html:Join us for the 1st Business After 5 Mixer. Start your new year off right and make some new connections to grow your business and have a prosperous New Year!
LOCATION:Carlton Oaks Country Club 9200 Inwood Dr. Santee\, CA 92071
UID:e.2538.3250
SEQUENCE:3
DTSTAMP:20260423T142322Z
URL:https://santeechamber.com/events/details/january-business-after-5-mixer-3250
END:VEVENT

END:VCALENDAR
