BEGIN:VCALENDAR
VERSION:2.0
PRODID:-//ChamberMaster//Event Calendar 2.0//EN
METHOD:PUBLISH
X-PUBLISHED-TTL:P3D
REFRESH-INTERVAL:P3D
CALSCALE:GREGORIAN
BEGIN:VEVENT
DTSTART:20190910T210000Z
DTEND:20190910T230000Z
X-MICROSOFT-CDO-ALLDAYEVENT:FALSE
SUMMARY:Inaugural Joint Chamber Economic Crimes Forum and Meet and Greet with District Attorney Summer Stephan
DESCRIPTION:Members of the public are welcome to attend and learn about how scams and cyber-crime impact our businesses and communities at the first-ever Economic Crimes Forum in East County hosted by seven chambers of commerce.\n\nAt the event\, you can learn about how to protect yourself from becoming a victim of fraud and cyber crimes. Please see the attached flyer for more information and SHARE with anyone interested in attending!\n\nRSVP to Kathy Kassel: info@lakesidechamber.org or 619-561-1031
X-ALT-DESC;FMTTYPE=text/html:<span style="color: rgb(29\, 33\, 41)\; font-family: Helvetica\, Arial\, sans-serif\; font-size: 14px\; white-space: pre-wrap\;">Members of the public are welcome to attend and learn about how scams and cyber-crime impact our businesses and communities at the first-ever Economic Crimes Forum in East County hosted by seven chambers of commerce.</span><br style="color: rgb(29\, 33\, 41)\; font-family: Helvetica\, Arial\, sans-serif\; font-size: 14px\; white-space: pre-wrap\;" />\n<span style="color: rgb(29\, 33\, 41)\; font-family: Helvetica\, Arial\, sans-serif\; font-size: 14px\; white-space: pre-wrap\;">At the event\, you can learn about how to protect yourself from becoming a victim of fraud and cyber crimes. Please see the attached flyer for more information and SHARE with anyone interested in attending!</span><br style="color: rgb(29\, 33\, 41)\; font-family: Helvetica\, Arial\, sans-serif\; font-size: 14px\; white-space: pre-wrap\;" />\n<span style="color: rgb(29\, 33\, 41)\; font-family: Helvetica\, Arial\, sans-serif\; font-size: 14px\; white-space: pre-wrap\;">RSVP to Kathy Kassel: info@lakesidechamber.org or 619-561-1031</span>
LOCATION:Grossmont College (Theater Room 26-220) 8800 Grossmont College Dr. El Cajon\, CA 92020
UID:e.2538.3484
SEQUENCE:3
DTSTAMP:20260423T045929Z
URL:https://santeechamber.com/events/details/inaugural-joint-chamber-economic-crimes-forum-and-meet-and-greet-with-district-attorney-summer-stephan-3484
END:VEVENT

END:VCALENDAR
