BEGIN:VCALENDAR
VERSION:2.0
PRODID:-//ChamberMaster//Event Calendar 2.0//EN
METHOD:PUBLISH
X-PUBLISHED-TTL:P3D
REFRESH-INTERVAL:P3D
CALSCALE:GREGORIAN
BEGIN:VEVENT
DTSTART:20190423T210000Z
DTEND:20190423T220000Z
X-MICROSOFT-CDO-ALLDAYEVENT:FALSE
SUMMARY:Happy Hour Business Roundtable with Congressman Duncan Hunter
DESCRIPTION:Join the Santee Chamber as we host Congressman Duncan Hunter at Carlton Oaks for a happy hour business roundtable. You'll get an official update on the work he's doing in Washington DC\, legislature that can affect our local businesses\, then wrap up with a brief Q&A session! Registration is required to attend.
X-ALT-DESC;FMTTYPE=text/html:<span data-offset-key="72m7h-0-0"><span data-text="true">Join the Santee Chamber as we host Congressman Duncan Hunter at Carlton Oaks for a happy hour business roundtable. You&#39\;ll get an official update on the work he&#39\;s doing in Washington DC\, legislature that can affect our local businesses\, then wrap up with a brief Q&amp\;A session! Registration is required to attend.</span></span>
LOCATION:Poolside at Carlton Oaks Golf Club 9200 Inwood Drive Santee\, CA 92071
UID:e.2538.3458
SEQUENCE:3
DTSTAMP:20260423T095504Z
URL:https://santeechamber.com/events/details/happy-hour-business-roundtable-with-congressman-duncan-hunter-3458
END:VEVENT

END:VCALENDAR
