BEGIN:VCALENDAR
VERSION:2.0
PRODID:-//ChamberMaster//Event Calendar 2.0//EN
METHOD:PUBLISH
X-PUBLISHED-TTL:P3D
REFRESH-INTERVAL:P3D
CALSCALE:GREGORIAN
BEGIN:VEVENT
DTSTART:20190423T160000Z
DTEND:20190423T173000Z
X-MICROSOFT-CDO-ALLDAYEVENT:FALSE
SUMMARY:Grow Your Business with Office Depot
DESCRIPTION:Join us for light breakfast and beverages at Office Depot Santee April 23rd. Office Depot is no longer just the place you can get office supplies. Office Depot offers everything you need to run a successful business. Come\, learn and ask questions about all the services Office Depot has to offer your business.
X-ALT-DESC;FMTTYPE=text/html:Join us for light breakfast and beverages at Office Depot Santee April 23rd. Office Depot is no longer just the place you can get office supplies. Office Depot offers everything you need to run a successful business. Come\, learn and ask questions about all the services Office Depot has to offer your business.&nbsp\;&nbsp\;
LOCATION:Office Depot Santee 240 Town Center Pkwy Santee\, CA 92071
UID:e.2538.3291
SEQUENCE:3
DTSTAMP:20260423T095626Z
URL:https://santeechamber.com/events/details/grow-your-business-with-office-depot-3291
END:VEVENT

END:VCALENDAR
