BEGIN:VCALENDAR
VERSION:2.0
PRODID:-//ChamberMaster//Event Calendar 2.0//EN
METHOD:PUBLISH
X-PUBLISHED-TTL:P3D
REFRESH-INTERVAL:P3D
CALSCALE:GREGORIAN
BEGIN:VEVENT
DTSTART:20160423T153000Z
DTEND:20160423T190000Z
X-MICROSOFT-CDO-ALLDAYEVENT:FALSE
SUMMARY:Green Day
DESCRIPTION:Santee Lakes is partnering with the Creek to Bay Clean up to beautify the Park.
X-ALT-DESC;FMTTYPE=text/html:Santee Lakes is partnering with the Creek to Bay Clean up to beautify the Park.
LOCATION:Santee Lakes
UID:e.2538.2829
SEQUENCE:3
DTSTAMP:20260425T213009Z
URL:https://santeechamber.com/events/details/green-day-04-23-2016-2829
END:VEVENT

END:VCALENDAR
