BEGIN:VCALENDAR
VERSION:2.0
PRODID:-//ChamberMaster//Event Calendar 2.0//EN
METHOD:PUBLISH
X-PUBLISHED-TTL:P3D
REFRESH-INTERVAL:P3D
CALSCALE:GREGORIAN
BEGIN:VEVENT
DTSTART:20190605T163000Z
DTEND:20190605T173000Z
X-MICROSOFT-CDO-ALLDAYEVENT:FALSE
SUMMARY:Grand Opening Thai Thai Santee
DESCRIPTION:Join us for the Grand Opening and ribbon cutting ceremony of Thai Thai Santee. Thai Thai Santee will be taking over for Oishii Japanese- Thai Cuisine Restaurant. They will be serving some of their favorite Thai dishes at the ceremony for everyone to try.
X-ALT-DESC;FMTTYPE=text/html:Join us for the Grand Opening and ribbon cutting ceremony of Thai Thai Santee. Thai Thai Santee will be taking over for Oishii Japanese- Thai Cuisine Restaurant. They will be serving some of their favorite Thai dishes at the ceremony for everyone to try.&nbsp\;
LOCATION:10251 Mast Blvd Suite B Santee\, CA 92071
UID:e.2538.3466
SEQUENCE:3
DTSTAMP:20260423T065758Z
URL:https://santeechamber.com/events/details/grand-opening-thai-thai-santee-3466
END:VEVENT

END:VCALENDAR
