BEGIN:VCALENDAR
VERSION:2.0
PRODID:-//ChamberMaster//Event Calendar 2.0//EN
METHOD:PUBLISH
X-PUBLISHED-TTL:P3D
REFRESH-INTERVAL:P3D
CALSCALE:GREGORIAN
BEGIN:VEVENT
DTSTART:20190218T183000Z
DTEND:20190218T193000Z
X-MICROSOFT-CDO-ALLDAYEVENT:FALSE
SUMMARY:Grand Opening- Rock Vill RV & Self Storage
DESCRIPTION:Join us to celebrate the Grand Opening of Rock Vill RV & Self Storage! There will be snacks and drinks. We hope to see everyone there!
X-ALT-DESC;FMTTYPE=text/html:<span style="color: rgb(29\, 33\, 41)\; font-family: Helvetica\, Arial\, sans-serif\; font-size: 12px\; white-space: pre-wrap\;">Join us to celebrate the Grand Opening of Rock Vill RV &amp\; Self Storage! There will be snacks and drinks. We hope to see everyone there!</span>
LOCATION:Rock Vill RV & Self Storage 10775 Rockvill St Santee\, CA 92071
UID:e.2538.3285
SEQUENCE:3
DTSTAMP:20260423T130613Z
URL:https://santeechamber.com/events/details/grand-opening-rock-vill-rv-self-storage-3285
END:VEVENT

END:VCALENDAR
