BEGIN:VCALENDAR
VERSION:2.0
PRODID:-//ChamberMaster//Event Calendar 2.0//EN
METHOD:PUBLISH
X-PUBLISHED-TTL:P3D
REFRESH-INTERVAL:P3D
CALSCALE:GREGORIAN
BEGIN:VEVENT
DTSTART:20190312T170000Z
DTEND:20190312T180000Z
X-MICROSOFT-CDO-ALLDAYEVENT:FALSE
SUMMARY:Grand Opening- Enhance Benefits Insurance Solution
DESCRIPTION:Join us for the Grand Opening and Ribbon Cutting ceremony for Enhace Benefits Insurance Solutions (EBIS)
X-ALT-DESC;FMTTYPE=text/html:Join us for the Grand Opening and Ribbon Cutting ceremony for Enhace Benefits Insurance Solutions (EBIS)
LOCATION:8220 University Ave. La Mesa\, CA 901942
UID:e.2538.3286
SEQUENCE:3
DTSTAMP:20260423T114218Z
URL:https://santeechamber.com/events/details/grand-opening-enhance-benefits-insurance-solution-3286
END:VEVENT

END:VCALENDAR
