BEGIN:VCALENDAR
VERSION:2.0
PRODID:-//ChamberMaster//Event Calendar 2.0//EN
METHOD:PUBLISH
X-PUBLISHED-TTL:P3D
REFRESH-INTERVAL:P3D
CALSCALE:GREGORIAN
BEGIN:VEVENT
DTSTART:20180503T210000Z
DTEND:20180503T220000Z
X-MICROSOFT-CDO-ALLDAYEVENT:FALSE
SUMMARY:Google Workshop: Get Your Business Found On Google Search and Maps!
DESCRIPTION:Join us for a Google Workshop presented by the Santee Chamber staff. After this workshop you will gain the necessary tools needed for getting your business found on Google Search and Maps! This presentation introduces Google My Business\, a free tool to manage your business information across Google. It's an easy way to help your business be found!
X-ALT-DESC;FMTTYPE=text/html:Join us for a Google Workshop presented by the Santee Chamber staff. After this workshop you will gain the necessary tools needed for getting your business found on Google Search and Maps! This presentation introduces Google My Business\, a free tool to manage your business information across Google. It&#39\;s an easy way to help your business be found!
LOCATION:Santee Chamber Business Resource Center 10159 Mission Gorge Road\, Suite F Santee\, CA 92071
UID:e.2538.3077
SEQUENCE:3
DTSTAMP:20260424T044758Z
URL:https://santeechamber.com/events/details/google-workshop-get-your-business-found-on-google-search-and-maps-3077
END:VEVENT

END:VCALENDAR
