BEGIN:VCALENDAR
VERSION:2.0
PRODID:-//ChamberMaster//Event Calendar 2.0//EN
METHOD:PUBLISH
X-PUBLISHED-TTL:P3D
REFRESH-INTERVAL:P3D
CALSCALE:GREGORIAN
BEGIN:VEVENT
DTSTART:20190515T161500Z
DTEND:20190515T174500Z
X-MICROSOFT-CDO-ALLDAYEVENT:FALSE
SUMMARY:Goodwill Santee Grand Reopening
DESCRIPTION:Join us for the Grand Reopening of Goodwill Santee. Bring your friends and family to see all the updates Goodwill has made!
X-ALT-DESC;FMTTYPE=text/html:<span style="color: rgb(29\, 33\, 41)\; font-family: Helvetica\, Arial\, sans-serif\; font-size: 12px\; white-space: pre-wrap\;">Join us for the Grand Reopening of Goodwill Santee. Bring your friends and family to see all the updates Goodwill has made!</span>
LOCATION:Goodwill Santee 9575 Mission Gorge Rd. Santee\, CA 92071
UID:e.2538.3461
SEQUENCE:3
DTSTAMP:20260423T095314Z
URL:https://santeechamber.com/events/details/goodwill-santee-grand-reopening-3461
END:VEVENT

END:VCALENDAR
