BEGIN:VCALENDAR
VERSION:2.0
PRODID:-//ChamberMaster//Event Calendar 2.0//EN
METHOD:PUBLISH
X-PUBLISHED-TTL:P3D
REFRESH-INTERVAL:P3D
CALSCALE:GREGORIAN
BEGIN:VEVENT
DTSTART:20190717T160000Z
DTEND:20190717T170000Z
X-MICROSOFT-CDO-ALLDAYEVENT:FALSE
SUMMARY:Get Productive with Google's Digital Tools Livestream
DESCRIPTION:This livestream can benefit anyone interested in learning online skills   students and parents\, business owners and employees\, job seekers and volunteers   and will explain how to get organized\, collaborate\, manage time\, and more\, using our free digital tools.
X-ALT-DESC;FMTTYPE=text/html:<span style="color:#5F6368\;"><span style="font-family:arial\,sans-serif\;"><span style="font-size:10.5pt\;">This livestream can benefit anyone interested in learning online skills &mdash\; students and parents\, business owners and employees\, job seekers and volunteers &mdash\; and will explain how to get organized\, collaborate\, manage time\, and more\, using our free digital tools.&nbsp\;</span></span></span>
LOCATION:10159 Mission Gorge Rd Suite F Santee\, CA. 92071
UID:e.2538.3467
SEQUENCE:3
DTSTAMP:20260423T045417Z
URL:https://santeechamber.com/events/details/get-productive-with-google-s-digital-tools-livestream-3467
END:VEVENT

END:VCALENDAR
