BEGIN:VCALENDAR
VERSION:2.0
PRODID:-//ChamberMaster//Event Calendar 2.0//EN
METHOD:PUBLISH
X-PUBLISHED-TTL:P3D
REFRESH-INTERVAL:P3D
CALSCALE:GREGORIAN
BEGIN:VEVENT
DTSTART:20180519T210000Z
DTEND:20180520T000000Z
X-MICROSOFT-CDO-ALLDAYEVENT:FALSE
SUMMARY:FREE Gymnastics/Cheer Open House!
DESCRIPTION:Celebrating 10 years in business with the East County community! Come explore our gymnastics/cheer facility at Open House and enjoy FREE Food\, Activities\, Exhibitions\, Facility Tours\, Bounce House\, Use of Equipment\, Prizes\, Karaoke! New athletes who sign up for class get 50% off first month's tuition! 619.449.7717
X-ALT-DESC;FMTTYPE=text/html:Celebrating 10 years in business with the East County community! Come explore our gymnastics/cheer facility at Open House and enjoy FREE Food\, Activities\, Exhibitions\, Facility Tours\, Bounce House\, Use of Equipment\, Prizes\, Karaoke! New athletes who sign up for class get 50% off first month&#39\;s tuition! 619.449.7717
LOCATION:Champion Gymnastics & Cheer 10580 Prospect Avenue Santee CA 92071
UID:e.2538.3089
SEQUENCE:3
DTSTAMP:20260424T044828Z
URL:https://santeechamber.com/events/details/free-gymnastics-cheer-open-house-3089
END:VEVENT

END:VCALENDAR
