BEGIN:VCALENDAR
VERSION:2.0
PRODID:-//ChamberMaster//Event Calendar 2.0//EN
METHOD:PUBLISH
X-PUBLISHED-TTL:P3D
REFRESH-INTERVAL:P3D
CALSCALE:GREGORIAN
BEGIN:VEVENT
DTSTART:20180915T170000Z
DTEND:20180915T203000Z
X-MICROSOFT-CDO-ALLDAYEVENT:FALSE
SUMMARY:Fire Safety Fair
DESCRIPTION:Bring the kids for a day of fun and learning at the Santee Historical Society and Museum! This is an "Open House"-style event\, so feel free to drop by anytime between 10am and 2pm.   Meet real-life firefighters and explore a fire engine with the Santee Fire Department.   Talk with members of the San Diego County Sheriff's Department and learn important crime-prevention tips for the Santee community.   Explore the barn museum\, including displays of vintage fire equipment and a player piano.
X-ALT-DESC;FMTTYPE=text/html:Bring the kids for a day of fun and learning at the Santee Historical Society and Museum! This is an &ldquo\;Open House&rdquo\;-style event\, so feel free to drop by anytime between 10am and 2pm. &bull\; Meet real-life firefighters and explore a fire engine with the Santee Fire Department. &bull\; Talk with members of the San Diego County Sheriff&rsquo\;s Department and learn important crime-prevention tips for the Santee community. &bull\; Explore the barn museum\, including displays of vintage fire equipment and a player piano.
LOCATION:Santee Historical Society 9200 N Magnolia Avenue Santee 92072
UID:e.2538.3222
SEQUENCE:3
DTSTAMP:20260423T215539Z
URL:https://santeechamber.com/events/details/fire-safety-fair-3222
END:VEVENT

END:VCALENDAR
