BEGIN:VCALENDAR
VERSION:2.0
PRODID:-//ChamberMaster//Event Calendar 2.0//EN
METHOD:PUBLISH
X-PUBLISHED-TTL:P3D
REFRESH-INTERVAL:P3D
CALSCALE:GREGORIAN
BEGIN:VEVENT
DTSTART:20200215T200000Z
DTEND:20200216T000000Z
X-MICROSOFT-CDO-ALLDAYEVENT:FALSE
SUMMARY:Fido Fest…My Furry Valentine
DESCRIPTION:The City of Santee and KSON/Entercom will be co-hosting Fido Fest My Furry Valentine.\n\nA Wide Variety of Exhibitors\n\nGreat Giveaways & Fun for both the Two-Legged AND Four-Legged\n\nDog Adoption from Dozens of Rescue Groups\n\nDiscounted Vaccinations\, Microchipping\, Dog Licensing and Heartworm & Flea Preventatives\n\nFly Ball\, Training and a Variety of other Demonstrations\n\nLive Entertainment\n\nBlanket & Food Drive for Local Rescues\n\nThe Latest & Greatest Pet Products\n\nAnd SO MUCH MORE!!!
X-ALT-DESC;FMTTYPE=text/html:The City of Santee and KSON/Entercom will be co-hosting Fido Fest My Furry Valentine.<br />\nA Wide Variety of Exhibitors<br />\nGreat Giveaways &amp\; Fun for both the Two-Legged AND Four-Legged<br />\nDog Adoption from Dozens of Rescue Groups<br />\nDiscounted Vaccinations\, Microchipping\, Dog Licensing and Heartworm &amp\; Flea Preventatives<br />\nFly Ball\, Training and a Variety of other Demonstrations<br />\nLive Entertainment<br />\nBlanket &amp\; Food Drive for Local Rescues<br />\nThe Latest &amp\; Greatest Pet Products<br />\nAnd SO MUCH MORE!!!
LOCATION:Location: Town Center Community Park East 550 Park Center Drive\, Santee
UID:e.2538.3524
SEQUENCE:3
DTSTAMP:20260425T131554Z
URL:https://santeechamber.com/events/details/fido-fest-my-furry-valentine-3524
END:VEVENT

END:VCALENDAR
