BEGIN:VCALENDAR
VERSION:2.0
PRODID:-//ChamberMaster//Event Calendar 2.0//EN
METHOD:PUBLISH
X-PUBLISHED-TTL:P3D
REFRESH-INTERVAL:P3D
CALSCALE:GREGORIAN
BEGIN:VEVENT
DTSTART:20161011T210000Z
DTEND:20161011T220000Z
X-MICROSOFT-CDO-ALLDAYEVENT:FALSE
SUMMARY:European Wax Center - Ribbon Cutting
DESCRIPTION:Help us celebrate the Grand Opening of European Wax Center in Santee with a ribbon cutting.
X-ALT-DESC;FMTTYPE=text/html:Help us celebrate the Grand Opening of European Wax Center in Santee with a ribbon cutting.&nbsp\;
LOCATION:9836 Mission Gorge Road Santee\, CA 92071
UID:e.2538.2861
SEQUENCE:3
DTSTAMP:20260425T105829Z
URL:https://santeechamber.com/events/details/european-wax-center-ribbon-cutting-2861
END:VEVENT

END:VCALENDAR
