BEGIN:VCALENDAR
VERSION:2.0
PRODID:-//ChamberMaster//Event Calendar 2.0//EN
METHOD:PUBLISH
X-PUBLISHED-TTL:P3D
REFRESH-INTERVAL:P3D
CALSCALE:GREGORIAN
BEGIN:VEVENT
DTSTART:20191019T153000Z
DTEND:20191019T230000Z
X-MICROSOFT-CDO-ALLDAYEVENT:FALSE
SUMMARY:East County Feed Fall Festival
DESCRIPTION:Come Join us for our Fall Festival.  Bring the whole family for a fun filled day.  Meet our Vendors\, get great sales prices and samples\, play games\, win chances to dunk our staff in the DUNK TANK\, enjoy cold refreshments from U-Wanna Cuppa\, win tickets for our Opportunity Drawing and much much more.
X-ALT-DESC;FMTTYPE=text/html:Come Join us for our Fall Festival.&nbsp\; Bring the whole family for a fun filled day.&nbsp\; Meet our Vendors\, get great sales prices and samples\, play games\, win chances to dunk our staff in the <strong>DUNK TANK</strong>\, enjoy cold refreshments from <strong>U-Wanna Cuppa</strong>\, win tickets for our Opportunity Drawing and much much more.
LOCATION:East County Feed & Supply 10845 Woodside Ave Santee\, Ca 92071
UID:e.2538.3480
SEQUENCE:3
DTSTAMP:20260423T064358Z
URL:https://santeechamber.com/events/details/east-county-feed-fall-festival-3480
END:VEVENT

END:VCALENDAR
