BEGIN:VCALENDAR
VERSION:2.0
PRODID:-//ChamberMaster//Event Calendar 2.0//EN
METHOD:PUBLISH
X-PUBLISHED-TTL:P3D
REFRESH-INTERVAL:P3D
CALSCALE:GREGORIAN
BEGIN:VEVENT
DTSTART:20191001T220000Z
DTEND:20191002T010000Z
X-MICROSOFT-CDO-ALLDAYEVENT:FALSE
SUMMARY:East County EDC - Manufacturing Expo 2019
DESCRIPTION:This Manufacturing Expo is part of U.S. National Manufacturing Day\, a\n\nnationwide effort to celebrate modern manufacturing and inspire the next\n\ngeneration to pursue careers in this field. At this year's Expo\, your student\n\nwill have a chance to meet dozens of local\, East County manufacturing companies like Quality Controlled Manufacturing Inc.\, RCP Block & Brick\, and even Taylor Guitars! They will get to see these companies face-to-face and learn all about the products they make and what it is like to work there.
X-ALT-DESC;FMTTYPE=text/html:<span style="font-family:calibri\,sans-serif\;"><span style="font-size:11.0pt\;">This Manufacturing Expo is part of U.S. National Manufacturing Day\, a<br />\nnationwide effort to celebrate modern manufacturing and inspire the next<br />\ngeneration to pursue careers in this field. At this year&rsquo\;s Expo\, your student<br />\nwill have a chance to meet dozens of local\, East County manufacturing companies&nbsp\;like Quality Controlled Manufacturing Inc.\, RCP Block &amp\; Brick\, and even&nbsp\;Taylor Guitars! They will get to see these companies face-to-face and learn all about the products they make and what it is like to work there.&nbsp\;</span></span>
LOCATION:Prescott Promenade 200 East Main Street El Cajon\, CA 92020
UID:e.2538.3487
SEQUENCE:3
DTSTAMP:20260423T064556Z
URL:https://santeechamber.com/events/details/east-county-edc-manufacturing-expo-2019-3487
END:VEVENT

END:VCALENDAR
