BEGIN:VCALENDAR
VERSION:2.0
PRODID:-//ChamberMaster//Event Calendar 2.0//EN
METHOD:PUBLISH
X-PUBLISHED-TTL:P3D
REFRESH-INTERVAL:P3D
CALSCALE:GREGORIAN
BEGIN:VEVENT
DTSTART:20160422T160000Z
DTEND:20160425T230000Z
X-MICROSOFT-CDO-ALLDAYEVENT:FALSE
SUMMARY:Earth Day Community Mural Creation
DESCRIPTION:Volunteer to help create six scenic murals under the Magnolia Street underpass at the Walker Preserve Trail along the San Diego River. The four-day public art and community beautification event is scheduled for April 22- 25. Those with artistic painting experience are encouraged to participate.
X-ALT-DESC;FMTTYPE=text/html:<span style="color: rgb(3\, 54\, 127)\; font-family: arial\, helvetica\, sans-serif\; font-size: 16px\; line-height: 26.6667px\; background-color: rgb(194\, 157\, 190)\;">Volunteer to help create&nbsp\;six scenic&nbsp\;murals under the Magnolia Street underpass at the&nbsp\;Walker Preserve Trail along&nbsp\;the San Diego River. The four-day&nbsp\;public art&nbsp\;and community beautification&nbsp\;event is&nbsp\;scheduled for&nbsp\;April 22-&nbsp\;25. Those with artistic&nbsp\;painting experience are encouraged to participate.</span>
LOCATION:Walker Preserve Trail 9500 Magnolia Ave. Santee\, CA 92071
UID:e.2538.2826
SEQUENCE:3
DTSTAMP:20260425T195911Z
URL:https://santeechamber.com/events/details/earth-day-community-mural-creation-04-22-2016-2826
END:VEVENT

END:VCALENDAR
