BEGIN:VCALENDAR
VERSION:2.0
PRODID:-//ChamberMaster//Event Calendar 2.0//EN
METHOD:PUBLISH
X-PUBLISHED-TTL:P3D
REFRESH-INTERVAL:P3D
CALSCALE:GREGORIAN
BEGIN:VEVENT
DTSTART:20160528T183000Z
DTEND:20160529T003000Z
X-MICROSOFT-CDO-ALLDAYEVENT:FALSE
SUMMARY:Craft Beer Garden at the Santee Street Fair
DESCRIPTION:Who says that there's no FREE LUNCH? Pre-order your wristbands for the Craft Beer Garden at the Santee Street Fair on Saturday May 28\, and get a FREE LUNCH. Choose a cheeseburger from Al's Sweet Stop or a bacon wrapped hotdog or Salvadorian pupusa from Doggos Gus. There are limited quantities of each so register today.
X-ALT-DESC;FMTTYPE=text/html:<span style="color:#000000\;"><span style="font-family: 'Helvetica Neue'\, Arial\, Helvetica\, sans-serif\; font-size: 13.984px\; line-height: 25px\;">Who says that there&#39\;s no FREE LUNCH? Pre-order your wristbands for the Craft Beer Garden at the Santee Street Fair on Saturday May 28\, and get a FREE LUNCH. Choose a cheeseburger from Al&#39\;s Sweet Stop or a bacon wrapped hotdog or Salvadorian pupusa from Doggos Gus. There are limited quantities of each so register today.</span></span>
LOCATION:The Santee Street Fair 101 Riverview Parkway Santee\, CA 92071
UID:e.2538.2827
SEQUENCE:3
DTSTAMP:20260425T185044Z
URL:https://santeechamber.com/events/details/craft-beer-garden-at-the-santee-street-fair-05-28-2016-2827
END:VEVENT

END:VCALENDAR
