BEGIN:VCALENDAR
VERSION:2.0
PRODID:-//ChamberMaster//Event Calendar 2.0//EN
METHOD:PUBLISH
X-PUBLISHED-TTL:P3D
REFRESH-INTERVAL:P3D
CALSCALE:GREGORIAN
BEGIN:VEVENT
DTSTART:20160730T230000Z
DTEND:20160731T050000Z
X-MICROSOFT-CDO-ALLDAYEVENT:FALSE
SUMMARY:Concert at the Lakes
DESCRIPTION:Dinner and a Concert The Show will feature\, Mirage: Visions of Fleetwood Mac\, The classic lineup of the legendary superstar band. The Long Run   Experience the Eagles\, a group widely regarded as the finest Eagles tribute act performing today.
X-ALT-DESC;FMTTYPE=text/html:Dinner and a Concert The Show will feature\, Mirage: Visions of Fleetwood Mac\, The classic lineup of the legendary superstar band. The Long Run &ndash\; Experience the Eagles\, a group widely regarded as the finest Eagles tribute act performing today.
LOCATION:Santee Lakes
UID:e.2538.2834
SEQUENCE:3
DTSTAMP:20260425T164430Z
URL:https://santeechamber.com/events/details/concert-at-the-lakes-07-30-2016-2834
END:VEVENT

END:VCALENDAR
