BEGIN:VCALENDAR
VERSION:2.0
PRODID:-//ChamberMaster//Event Calendar 2.0//EN
METHOD:PUBLISH
X-PUBLISHED-TTL:P3D
REFRESH-INTERVAL:P3D
CALSCALE:GREGORIAN
BEGIN:VEVENT
DTSTART:20191023T010000Z
DTEND:20191023T023000Z
X-MICROSOFT-CDO-ALLDAYEVENT:FALSE
SUMMARY:Community Informational Meeting with the Santee School District Board of Education
DESCRIPTION:Join the Santee School District for a informational meeting to learn about the upcoming construction project at Chet F. Harritt!
X-ALT-DESC;FMTTYPE=text/html:<span style="font-size:16px\;"><span style="font-family:arial\;">Join the Santee School District for a informational meeting&nbsp\;to learn about the upcoming construction project at Chet F. Harritt!</span></span>
LOCATION:8120 Arlette Street Santee\, CA 92071
UID:e.2538.3491
SEQUENCE:3
DTSTAMP:20260423T064655Z
URL:https://santeechamber.com/events/details/community-informational-meeting-with-the-santee-school-district-board-of-education-3491
END:VEVENT

END:VCALENDAR
