BEGIN:VCALENDAR
VERSION:2.0
PRODID:-//ChamberMaster//Event Calendar 2.0//EN
METHOD:PUBLISH
X-PUBLISHED-TTL:P3D
REFRESH-INTERVAL:P3D
CALSCALE:GREGORIAN
BEGIN:VEVENT
DTSTART:20180718T010000Z
DTEND:20180718T030000Z
X-MICROSOFT-CDO-ALLDAYEVENT:FALSE
SUMMARY:Coffee With The Community
DESCRIPTION:Community outreach is a top priority of the San Diego County Sheriff's Department. Members of the community should feel comfortable bringing problems related to safety and security to their staff. The Santee Sheriff's Station is holding a Coffee with the Community on Tuesday\, July 17th. This gives the public a chance to chat with the Station's command staff\, deputies\, Crime Prevention Specialist and Senior Volunteers in a casual setting and exchange ideas and concerns over a free cup of coffee. Come out and make a positive difference in your community!
X-ALT-DESC;FMTTYPE=text/html:<span class="Linkify">Community outreach is a top priority of the San Diego County Sheriff&#39\;s Department. Members of the community should feel comfortable bringing problems related to safety and security to&nbsp\;their staff. The Santee Sheriff&#39\;s Station is holding a Coffee with the Community on Tuesday\, July 17th. This gives the public a chance to chat with the Station&#39\;s command staff\, deputies\, Crime Prevention Specialist and Senior Volunteers in a casual setting and exchange ideas and concerns over a free cup of coffee. Come out and make a positive difference in your community! </span>
LOCATION:Santee Branch Library 9225 Carlton Hills Boulevard\, #17
UID:e.2538.3219
SEQUENCE:3
DTSTAMP:20260424T031129Z
URL:https://santeechamber.com/events/details/coffee-with-the-community-3219
END:VEVENT

END:VCALENDAR
