BEGIN:VCALENDAR
VERSION:2.0
PRODID:-//ChamberMaster//Event Calendar 2.0//EN
METHOD:PUBLISH
X-PUBLISHED-TTL:P3D
REFRESH-INTERVAL:P3D
CALSCALE:GREGORIAN
BEGIN:VEVENT
DTSTART:20191109T170000Z
DTEND:20191109T200000Z
X-MICROSOFT-CDO-ALLDAYEVENT:FALSE
SUMMARY:Clean & Green River Cleanup
DESCRIPTION:Each year\, San Diego River Park Foundation volunteers remove more than 200\,000 pounds of trash from our River. Without our amazing volunteers\, this trash would be left to pollute native animal habitats\, create unsightly piles in our parks and public spaces\, leach contaminants into the water\, and could be washed out in to our ocean and beaches!\n\n\n\nYOU can help with this critical work by cleaning up storm water debris and litter. Volunteers use pickers and gloves to pack this trash into garbage bags\, then haul it to a dumpster.\n\n\n\nDetails:\n\n	This event is open to volunteers of all ages\, but volunteers under the age of 16 must come with an adult.  \n	All tools and supplies will be provided. \n	No experience necessary. \n	Closed-toed shoes are required.  \n	Sun protection\, water and a snack are highly recommended.  \n	Community service hours can be verified.  \n	Groups are welcome if space allows.\n\nLocation: This event will be at Forester Creek in Santee. Please find street parking near the Pacific Islander Beer Company Parking Lot at 8665 Argent Street\, Santee\, CA 92071. Please see the Google map for visual location: https://goo.gl/8VwxNf. Volunteers will meet at the SDRPF tent in the Pacific Islander Beer Company parking lot.  \n\n\n\nRSVPs are required.  To RSVP or to learn more\, please email volunteer@sandiegoriver.org or call (619) 297-7380.\n\n\n\nwww.sandiegoriver.org
X-ALT-DESC;FMTTYPE=text/html:<span style="color:#3C4043"><span style="font-family:arial\,sans-serif"><span style="font-size:10.5pt">Each year\, San Diego River Park Foundation volunteers remove more than 200\,000 pounds of trash from our River. Without our amazing volunteers\, this trash would be left to pollute native animal habitats\, create unsightly piles in our parks and public spaces\, leach contaminants into the water\, and could be washed out in to our ocean and beaches!</span></span></span><br />\n<br />\n<span style="color:#3C4043"><span style="font-family:arial\,sans-serif"><span style="font-size:10.5pt">YOU can help with this critical work by cleaning up storm water debris and litter. Volunteers use pickers and gloves to pack this trash into garbage bags\, then haul it to a dumpster.</span></span></span><br />\n<br />\n<strong><span style="color:#3C4043"><span style="font-family:arial\,sans-serif"><span style="font-size:10.5pt">Details:</span></span></span></strong>\n<ul>\n	<li><span style="font-family:arial\,sans-serif"><span style="font-size:10.5pt">This event is open to volunteers of all ages\, but volunteers under the age of 16 must come with an adult.&nbsp\;&nbsp\;</span></span></li>\n	<li><span style="font-family:arial\,sans-serif"><span style="font-size:10.5pt">All tools and supplies will be provided.&nbsp\;</span></span></li>\n	<li><span style="font-family:arial\,sans-serif"><span style="font-size:10.5pt">No experience necessary.&nbsp\;</span></span></li>\n	<li><span style="font-family:arial\,sans-serif"><span style="font-size:10.5pt">Closed-toed shoes are required.&nbsp\;&nbsp\;</span></span></li>\n	<li><span style="font-family:arial\,sans-serif"><span style="font-size:10.5pt">Sun protection\, water and a snack are highly recommended.&nbsp\;&nbsp\;</span></span></li>\n	<li><span style="font-family:arial\,sans-serif"><span style="font-size:10.5pt">Community service hours can be verified.&nbsp\;&nbsp\;</span></span></li>\n	<li><span style="font-family:arial\,sans-serif"><span style="font-size:10.5pt">Groups are welcome if space allows.</span></span></li>\n</ul>\n<strong><span style="color:#3C4043"><span style="font-family:arial\,sans-serif"><span style="font-size:10.5pt">Location: </span></span></span></strong><span style="color:#3C4043"><span style="font-family:arial\,sans-serif"><span style="font-size:10.5pt">This event will be at Forester Creek in Santee. Please find street parking near the Pacific Islander Beer Company Parking Lot at 8665 Argent Street\, Santee\, CA 92071. Please see the Google map for visual location: <a href="https://www.google.com/url?q=https://goo.gl/8VwxNf&amp\;sa=D&amp\;usd=2&amp\;usg=AOvVaw1lSTdN0UexsrSXbWYJJZUh" target="_blank"><span style="color:#1A73E8">https://goo.gl/8VwxNf</span></a>. Volunteers will meet at the SDRPF tent in the Pacific Islander Beer Company parking lot.&nbsp\;&nbsp\;</span></span></span><br />\n<br />\n<strong><span style="color:#3C4043"><span style="font-family:arial\,sans-serif"><span style="font-size:10.5pt">RSVPs are required.&nbsp\; To RSVP or to learn more\, please email <a href="mailto:volunteer@sandiegoriver.org" target="_blank"><span style="color:#1A73E8">volunteer@sandiegoriver.org</span></a>&nbsp\;or call (619) 297-7380.</span></span></span></strong><br />\n<br />\n<strong><span style="color:#3C4043"><span style="font-family:arial\,sans-serif"><span style="font-size:10.5pt"><a href="http://www.sandiegoriver.org">www.sandiegoriver.org</a></span></span></span></strong>
LOCATION:Location: This event will be at Forester Creek in Santee. Please find street parking near the Pacific Islander Beer Company Parking Lot at 8665 Argent Street\, Santee\, CA 92071. Please see the Google map for visual location: https://goo.gl/8VwxNf. Volunteers will meet at the SDRPF tent in the Pacific Islander Beer Company parking lot.
UID:e.2538.3497
SEQUENCE:3
DTSTAMP:20260423T093636Z
URL:https://santeechamber.com/events/details/clean-green-river-cleanup-3497
END:VEVENT

END:VCALENDAR
