BEGIN:VCALENDAR
VERSION:2.0
PRODID:-//ChamberMaster//Event Calendar 2.0//EN
METHOD:PUBLISH
X-PUBLISHED-TTL:P3D
REFRESH-INTERVAL:P3D
CALSCALE:GREGORIAN
BEGIN:VEVENT
DTSTART:20161116T230000Z
DTEND:20161117T000000Z
X-MICROSOFT-CDO-ALLDAYEVENT:FALSE
SUMMARY:Children's Choice Grand Opening
DESCRIPTION:Celebrate the grand opening of the Santee location of Children's Choice with a ribbon cutting\, food\, and networking.
X-ALT-DESC;FMTTYPE=text/html:Celebrate the grand opening of the Santee&nbsp\;location of Children&#39\;s Choice with a ribbon cutting\, food\, and networking.&nbsp\;
LOCATION:Children's Choice 8824 Cottonwood Ave. Santee\, CA 92071
UID:e.2538.2867
SEQUENCE:3
DTSTAMP:20260425T105031Z
URL:https://santeechamber.com/events/details/children-s-choice-grand-opening-2867
END:VEVENT

END:VCALENDAR
