BEGIN:VCALENDAR
VERSION:2.0
PRODID:-//ChamberMaster//Event Calendar 2.0//EN
METHOD:PUBLISH
X-PUBLISHED-TTL:P3D
REFRESH-INTERVAL:P3D
CALSCALE:GREGORIAN
BEGIN:VEVENT
DTSTART;VALUE=DATE:20191128
DTEND;VALUE=DATE:20191130
TRANSP:TRANSPARENT
X-MICROSOFT-CDO-ALLDAYEVENT:TRUE
SUMMARY:Chamber Office Closed
DESCRIPTION:Our office will be CLOSED on Thursday\, November 28th and Friday\, November 29th in observance of Thanksgiving. The Santee Chamber office staff will resume normal business hours on Monday\, December 2nd.
X-ALT-DESC;FMTTYPE=text/html:Our office will be&nbsp\;<strong>C<strong>LOSED</strong> </strong>on <strong>Thursday<strong><strong>\,&nbsp\;</strong>November 28th and Friday\, November 29th</strong></strong>&nbsp\;in observance of&nbsp\;Thanksgiving. The Santee Chamber office staff will resume normal business hours on <strong>Monday<strong>\,</strong>&nbsp\;December 2nd</strong>.
LOCATION:Santee Chamber of Commerce 10159 Mission Gorge Road\, Suite F Santee\, CA 92071
UID:e.2538.3513
SEQUENCE:3
DTSTAMP:20260423T080423Z
URL:https://santeechamber.com/events/details/chamber-office-closed-3513
END:VEVENT

END:VCALENDAR
