BEGIN:VCALENDAR
VERSION:2.0
PRODID:-//ChamberMaster//Event Calendar 2.0//EN
METHOD:PUBLISH
X-PUBLISHED-TTL:P3D
REFRESH-INTERVAL:P3D
CALSCALE:GREGORIAN
BEGIN:VEVENT
DTSTART;VALUE=DATE:20191111
DTEND;VALUE=DATE:20191112
TRANSP:TRANSPARENT
X-MICROSOFT-CDO-ALLDAYEVENT:TRUE
SUMMARY:Chamber Office Closed
DESCRIPTION:Our office will be CLOSED on Monday\, November 11th in observance of Veterans Day. The Santee Chamber office staff will resume normal business hours on Tuesday\, November 12th.
X-ALT-DESC;FMTTYPE=text/html:Our office will be&nbsp\;<strong>C<strong>LOSED</strong> </strong>on <strong>Mon<strong>day\,&nbsp\;November 11th</strong></strong>&nbsp\;in observance of&nbsp\;Veterans Day. The Santee Chamber office staff will resume normal business hours on <strong>Tuesday<strong>\,</strong>&nbsp\;November 12th</strong>.
LOCATION:Santee Chamber of Commerce 10159 Mission Gorge Road\, Suite F Santee\, CA 92071
UID:e.2538.3511
SEQUENCE:3
DTSTAMP:20260423T080424Z
URL:https://santeechamber.com/events/details/chamber-office-closed-3511
END:VEVENT

END:VCALENDAR
