BEGIN:VCALENDAR
VERSION:2.0
PRODID:-//ChamberMaster//Event Calendar 2.0//EN
METHOD:PUBLISH
X-PUBLISHED-TTL:P3D
REFRESH-INTERVAL:P3D
CALSCALE:GREGORIAN
BEGIN:VEVENT
DTSTART;VALUE=DATE:20190705
DTEND;VALUE=DATE:20190706
TRANSP:TRANSPARENT
X-MICROSOFT-CDO-ALLDAYEVENT:TRUE
SUMMARY:Chamber Office Closed
DESCRIPTION:Our office will be CLOSED on Friday\, July 5th in observance of 4th of July. The Santee Chamber office staff will resume normal business hours on Monday\, July 8th.
X-ALT-DESC;FMTTYPE=text/html:Our office will be&nbsp\;<strong>C<strong>LOSED</strong> </strong>on <strong>Friday<strong>\,&nbsp\;</strong>July 5th</strong>&nbsp\;in observance of&nbsp\;4th of July. The Santee Chamber office staff will resume normal business hours on <strong>Monday<strong>\,</strong>&nbsp\;July 8th</strong>.
LOCATION:Santee Chamber of Commerce 10159 Mission Gorge Road\, Suite F Santee\, CA 92071
UID:e.2538.3263
SEQUENCE:3
DTSTAMP:20260423T053525Z
URL:https://santeechamber.com/events/details/chamber-office-closed-3263
END:VEVENT

END:VCALENDAR
