BEGIN:VCALENDAR
VERSION:2.0
PRODID:-//ChamberMaster//Event Calendar 2.0//EN
METHOD:PUBLISH
X-PUBLISHED-TTL:P3D
REFRESH-INTERVAL:P3D
CALSCALE:GREGORIAN
BEGIN:VEVENT
DTSTART:20190723T220000Z
DTEND:20190723T230000Z
X-MICROSOFT-CDO-ALLDAYEVENT:FALSE
SUMMARY:Chamber 101
DESCRIPTION:Learn why business owners can benefit from becoming a Chamber member\, how the Chamber acts as a resource and going over our website and all of its abilities!
X-ALT-DESC;FMTTYPE=text/html:Learn why business owners can benefit from becoming a Chamber member\, how the Chamber acts as a resource and going over our website and all of its abilities!
LOCATION:Santee Chamber of Commerce 10159 Mission Gorge Road\, Suite F Santee\, CA 92071
UID:e.2538.3463
SEQUENCE:3
DTSTAMP:20260423T053611Z
URL:https://santeechamber.com/events/details/chamber-101-3463
END:VEVENT

END:VCALENDAR
