BEGIN:VCALENDAR
VERSION:2.0
PRODID:-//ChamberMaster//Event Calendar 2.0//EN
METHOD:PUBLISH
X-PUBLISHED-TTL:P3D
REFRESH-INTERVAL:P3D
CALSCALE:GREGORIAN
BEGIN:VEVENT
DTSTART:20180407T130000Z
DTEND:20180409T020000Z
X-MICROSOFT-CDO-ALLDAYEVENT:FALSE
SUMMARY:Catfish Opening Weekend
DESCRIPTION:2\,000 lbs. of Catfish will be stocked for this fishing event at Santee Lakes! Tagged fish for prizes and prizes for top 5 largest Catfish caught over the weekend opener.
X-ALT-DESC;FMTTYPE=text/html:2\,000 lbs. of Catfish will be stocked for this fishing event at Santee Lakes! Tagged fish for prizes and prizes for top 5 largest Catfish caught over the weekend opener.
LOCATION:Santee Lakes\, 9310 Fanita Parkway
UID:e.2538.3059
SEQUENCE:3
DTSTAMP:20260424T061708Z
URL:https://santeechamber.com/events/details/catfish-opening-weekend-3059
END:VEVENT

END:VCALENDAR
