BEGIN:VCALENDAR
VERSION:2.0
PRODID:-//ChamberMaster//Event Calendar 2.0//EN
METHOD:PUBLISH
X-PUBLISHED-TTL:P3D
REFRESH-INTERVAL:P3D
CALSCALE:GREGORIAN
BEGIN:VEVENT
DTSTART:20181010T010000Z
DTEND:20181010T030000Z
X-MICROSOFT-CDO-ALLDAYEVENT:FALSE
SUMMARY:Candidates Forum At Pride Academy
DESCRIPTION:At Pride Academy School
X-ALT-DESC;FMTTYPE=text/html:At Pride Academy School
LOCATION:9303 Prospect Avenue\, Santee
UID:e.2538.3224
SEQUENCE:3
DTSTAMP:20260423T192843Z
URL:https://santeechamber.com/events/details/candidates-forum-at-pride-academy-3224
END:VEVENT

END:VCALENDAR
