BEGIN:VCALENDAR
VERSION:2.0
PRODID:-//ChamberMaster//Event Calendar 2.0//EN
METHOD:PUBLISH
X-PUBLISHED-TTL:P3D
REFRESH-INTERVAL:P3D
CALSCALE:GREGORIAN
BEGIN:VEVENT
DTSTART:20181005T010000Z
DTEND:20181005T030000Z
X-MICROSOFT-CDO-ALLDAYEVENT:FALSE
SUMMARY:Candidates Forum
DESCRIPTION:Carlton Oaks Golf Club- Cresr Room
X-ALT-DESC;FMTTYPE=text/html:Carlton Oaks Golf Club- Cresr Room
LOCATION:9200 Inwood Drive\, Santee
UID:e.2538.3223
SEQUENCE:3
DTSTAMP:20260423T192552Z
URL:https://santeechamber.com/events/details/candidates-forum-3223
END:VEVENT

END:VCALENDAR
