BEGIN:VCALENDAR
VERSION:2.0
PRODID:-//ChamberMaster//Event Calendar 2.0//EN
METHOD:PUBLISH
X-PUBLISHED-TTL:P3D
REFRESH-INTERVAL:P3D
CALSCALE:GREGORIAN
BEGIN:VEVENT
DTSTART:20190613T003000Z
DTEND:20190613T023000Z
X-MICROSOFT-CDO-ALLDAYEVENT:FALSE
SUMMARY:Business After 5 Mixer
DESCRIPTION:Join us for Business After 5 Mixer at Chick-Fil-A Santee. Make some new connections to grow your business this summer!
X-ALT-DESC;FMTTYPE=text/html:Join us for Business After 5 Mixer at Chick-Fil-A Santee. Make some new connections to grow your business this summer!
LOCATION:Chick-fil-A Santee 9418 Mission Gorge Rd antee\, CA 92071
UID:e.2538.3464
SEQUENCE:3
DTSTAMP:20260423T075355Z
URL:https://santeechamber.com/events/details/business-after-5-mixer-3464
END:VEVENT

END:VCALENDAR
