BEGIN:VCALENDAR
VERSION:2.0
PRODID:-//ChamberMaster//Event Calendar 2.0//EN
METHOD:PUBLISH
X-PUBLISHED-TTL:P3D
REFRESH-INTERVAL:P3D
CALSCALE:GREGORIAN
BEGIN:VEVENT
DTSTART;VALUE=DATE:20190712
DTEND;VALUE=DATE:20190713
TRANSP:TRANSPARENT
X-MICROSOFT-CDO-ALLDAYEVENT:TRUE
SUMMARY:Boys & Girls Clubs of East County
DESCRIPTION:Join us for our 46th annaul Golf Day at Singing Hills Golf Resort by Sycuan\n\nOak Glen Course\n\n9:00 am Registration Opens\n\n11:00 am "Shotgun" Starts \n\n4:30 pm Dinner\, Auction & Drawing and Drawing Winners\n\nFor questions or to submit your golf foursome names\, please contact Jen Murdoch at jen@bgcec.org
X-ALT-DESC;FMTTYPE=text/html:<p>Join us for our 46th annaul Golf Day at Singing Hills Golf Resort by Sycuan<br />\nOak Glen Course<br />\n9:00 am Registration Opens<br />\n11:00 am &ldquo\;Shotgun&rdquo\; Starts&nbsp\;<br />\n4:30 pm Dinner\, Auction &amp\; Drawing and Drawing Winners</p>\n\n<p>For questions or to submit your golf foursome names\, please contact Jen Murdoch at&nbsp\;jen@bgcec.org&nbsp\;</p>\n
LOCATION:3007 Deheasa Road\, El Cajon\, CA 92019
UID:e.2538.3460
SEQUENCE:3
DTSTAMP:20260423T045933Z
URL:https://santeechamber.com/events/details/boys-girls-clubs-of-east-county-3460
END:VEVENT

END:VCALENDAR
