BEGIN:VCALENDAR
VERSION:2.0
PRODID:-//ChamberMaster//Event Calendar 2.0//EN
METHOD:PUBLISH
X-PUBLISHED-TTL:P3D
REFRESH-INTERVAL:P3D
CALSCALE:GREGORIAN
BEGIN:VEVENT
DTSTART:20180909T003000Z
DTEND:20180909T053000Z
X-MICROSOFT-CDO-ALLDAYEVENT:FALSE
SUMMARY:Black Tie Gala 2018
DESCRIPTION:Join the Santee Chamber of Commerce at our third annual Black Tie Gala featuring classic cars and modern aircraft\, an awards dinner\, live music\, dancing\, and more.
X-ALT-DESC;FMTTYPE=text/html:<span style="color: rgb(0\, 0\, 0)\;"><span style="font-family: verdana\;"><span style="font-size: 10.5pt\;">Join the Santee Chamber of Commerce at our&nbsp\;third annual Black Tie Gala featuring classic cars and modern aircraft\, an awards dinner\, live music\, dancing\, and more.&nbsp\;</span></span></span>
LOCATION:High Performance Aircraft at Gillespie Field - 1850 Joe Crosson Drive Suite I\, El Cajon\, CA 92020
UID:e.2538.3087
SEQUENCE:3
DTSTAMP:20260423T221149Z
URL:https://santeechamber.com/events/details/black-tie-gala-2018-3087
END:VEVENT

END:VCALENDAR
