BEGIN:VCALENDAR
VERSION:2.0
PRODID:-//ChamberMaster//Event Calendar 2.0//EN
METHOD:PUBLISH
X-PUBLISHED-TTL:P3D
REFRESH-INTERVAL:P3D
CALSCALE:GREGORIAN
BEGIN:VEVENT
DTSTART:20160821T000000Z
DTEND:20160821T050000Z
X-MICROSOFT-CDO-ALLDAYEVENT:FALSE
SUMMARY:Black Tie Car Show Gala 2016
DESCRIPTION:Join the Santee Chamber of Commerce at our inaugural Black Tie Car Show Gala featuring classic cars and modern aircraft\, an awards dinner\, live music\, dancing\, and more.
X-ALT-DESC;FMTTYPE=text/html:<span style="color:#000000\;"><span style="font-family:verdana\;"><span style="font-size:10.5pt\;">Join the Santee Chamber of Commerce at our inaugural&nbsp\;Black Tie Car Show&nbsp\;Gala featuring classic cars and modern aircraft\, an awards dinner\, live music\, dancing\, and more.&nbsp\;</span></span></span>
LOCATION:High Performance Aircraft at Gillespie Field - 1960 Joe Crosson Drive Suite I\, El Cajon\, CA 92020
UID:e.2538.2838
SEQUENCE:3
DTSTAMP:20260425T135434Z
URL:https://santeechamber.com/events/details/black-tie-car-show-gala-2016-08-20-2016-2838
END:VEVENT

END:VCALENDAR
