BEGIN:VCALENDAR
VERSION:2.0
PRODID:-//ChamberMaster//Event Calendar 2.0//EN
METHOD:PUBLISH
X-PUBLISHED-TTL:P3D
REFRESH-INTERVAL:P3D
CALSCALE:GREGORIAN
BEGIN:VEVENT
DTSTART:20190222T020000Z
DTEND:20190222T050000Z
X-MICROSOFT-CDO-ALLDAYEVENT:FALSE
SUMMARY:Awards Night 2019
DESCRIPTION:An annual celebration for Chamber Members to come together for Santee's Favorites contest winners and other business recognitions.
X-ALT-DESC;FMTTYPE=text/html:An annual celebration for Chamber Members to come together for Santee&#39\;s Favorites contest winners and other business recognitions.
LOCATION:Barona Resort & Casino Golf Events Center 1932 Wildcat Canyon Road Lakeside\, CA 92040
UID:e.2538.3238
SEQUENCE:3
DTSTAMP:20260423T130613Z
URL:https://santeechamber.com/events/details/awards-night-2019-3238
END:VEVENT

END:VCALENDAR
