BEGIN:VCALENDAR
VERSION:2.0
PRODID:-//ChamberMaster//Event Calendar 2.0//EN
METHOD:PUBLISH
X-PUBLISHED-TTL:P3D
REFRESH-INTERVAL:P3D
CALSCALE:GREGORIAN
BEGIN:VEVENT
DTSTART:20180223T013000Z
DTEND:20180223T043000Z
X-MICROSOFT-CDO-ALLDAYEVENT:FALSE
SUMMARY:Awards Night 2018
DESCRIPTION:Join us to honor leaders and exceptional businesses in our community. Santee's Favorites and Santee Person of the Year recipients will be announced at this event.
X-ALT-DESC;FMTTYPE=text/html:Join us to honor leaders and exceptional businesses in our community. Santee&#39\;s Favorites and Santee Person of the Year recipients will be announced at this event.&nbsp\;
LOCATION:Barona Resort & Casino Golf Events Center 1932 Wildcat Canyon Road Lakeside\, CA 92040
UID:e.2538.3047
SEQUENCE:3
DTSTAMP:20260419T132111Z
URL:https://santeechamber.com/events/details/awards-night-2018-3047
END:VEVENT

END:VCALENDAR
